BEGIN:VCALENDAR
VERSION:2.0
PRODID:-//ChurchDev//Events//EN
CALSCALE:GREGORIAN
METHOD:PUBLISH
BEGIN:VEVENT
UID:2592-20160121@www.wesleygmcs.org
SUMMARY:Church Council
DTSTART:20160122T003000Z
DTEND:20160122T013000Z
DESCRIPTION:The church is widely involved in diaconal and charitable efforts throughout our city. Out of respect for the privacy of those that we serve\, though\, many of these activities are not widely publicized.\\nIf you have a specific question or concern\, feel free to ask a deacon or come to one of the church&#8217\;s deacon meetings. Portions of the meetings are confidential\, but there is always a time for people to talk and pray with our deacons.\\n\\nhttps://www.wesleygmcs.org/events/deacon-meeting/
LOCATION:Sioux City\, IA
URL:https://www.wesleygmcs.org/events/deacon-meeting/
DTSTAMP:20260419T210922Z
END:VEVENT
END:VCALENDAR
